BEGIN:VCALENDAR
VERSION:2.0
PRODID:-//Dir El Kheir - ECPv6.9.1//NONSGML v1.0//EN
CALSCALE:GREGORIAN
METHOD:PUBLISH
X-ORIGINAL-URL:https://beta.direlkheir.fr
X-WR-CALDESC:Évènements pour Dir El Kheir
REFRESH-INTERVAL;VALUE=DURATION:PT1H
X-Robots-Tag:noindex
X-PUBLISHED-TTL:PT1H
BEGIN:VTIMEZONE
TZID:Europe/Paris
BEGIN:DAYLIGHT
TZOFFSETFROM:+0100
TZOFFSETTO:+0200
TZNAME:CEST
DTSTART:20250330T010000
END:DAYLIGHT
BEGIN:STANDARD
TZOFFSETFROM:+0200
TZOFFSETTO:+0100
TZNAME:CET
DTSTART:20251026T010000
END:STANDARD
TZID:UTC
BEGIN:STANDARD
TZOFFSETFROM:+0000
TZOFFSETTO:+0000
TZNAME:UTC
DTSTART:20250101T000000
END:STANDARD
END:VTIMEZONE
BEGIN:VEVENT
DTSTART;TZID=Europe/Paris:20250228T173000
DTEND;TZID=Europe/Paris:20250329T173000
DTSTAMP:20260425T155850
CREATED:20170425T081855Z
LAST-MODIFIED:20241021T214946Z
UID:782-1740763800-1743269400@beta.direlkheir.fr
SUMMARY:Ramadan - distribution de ftour
DESCRIPTION:Vivamus volutpat eros pulvinar velit laoreet\, sit amet egestas erat dignissim. Sed quis rutrum tellus\, sit amet viverra felis. Cras sagittis sem sit amet urna feugiat rutrum. Nam nulla ipsum\, venenatis malesuada felis quis\, ultricies. 				\n				\n					\n		\n				\n			\n						\n				\n					Vivamus volutpat eros pulvinar velit laoreet\, sit amet egestas erat dignissim. Sed quis rutrum tellus\, sit amet viverra felis. Cras sagittis sem sit amet urna feugiat rutrum. Nam nulla ipsum\, venenatis malesuada felis quis\, ultricies. 				\n				\n					\n		\n					\n		\n				\n						\n					\n			\n						\n				\n					OUR CAUSES				\n				\n				\n				\n					Vivamus volutpat eros pulvinar velit laoreet\, sit amet egestas erat dignissim. Sed quis rutrum tellus\, sit amet viverra felis. Cras sagittis sem sit amet urna feugiat rutrum. Nam nulla ipsum\, venenatis malesuada felis quis\, ultricies convallis neque. Pellentesque tristique fringilla tempus. Vivamus bibendum nibh in dolor pharetra\, a euismod nulla dignissim. Aenean viverra tincidunt nibh\, in imperdiet nunc. Suspendisse eu ante pretium\, consectetur leo at\, congue quam. Nullam hendrerit porta ante vitae tristique. Vestibulum ante ipsum primis in faucibus orci luctus et ultrices posuere cubilia Curae; Vestibulum ligula libero\, feugiat faucibus mattis eget\, pulvinar et ligula.
URL:https://beta.direlkheir.fr/event/ramadan-ftour/
LOCATION:Nanterre\, Rue Chevreul\, Nanterre\, Hauts-de-Seine\, 92000\, France
CATEGORIES:Category Event
ATTACH;FMTTYPE=:
ORGANIZER;CN="Dir El Kheir":MAILTO:Email
END:VEVENT
BEGIN:VEVENT
DTSTART;TZID=UTC:20250228T080000
DTEND;TZID=UTC:20250329T170000
DTSTAMP:20260425T155850
CREATED:20170425T081851Z
LAST-MODIFIED:20241021T215001Z
UID:781-1740729600-1743267600@beta.direlkheir.fr
SUMMARY:Ramadan - ftour à l'étranger
DESCRIPTION:Vivamus volutpat eros pulvinar velit laoreet\, sit amet egestas erat dignissim. Sed quis rutrum tellus\, sit amet viverra felis. Cras sagittis sem sit amet urna feugiat rutrum. Nam nulla ipsum\, venenatis malesuada felis quis\, ultricies. 				\n				\n					\n		\n				\n			\n						\n				\n					Vivamus volutpat eros pulvinar velit laoreet\, sit amet egestas erat dignissim. Sed quis rutrum tellus\, sit amet viverra felis. Cras sagittis sem sit amet urna feugiat rutrum. Nam nulla ipsum\, venenatis malesuada felis quis\, ultricies. 				\n				\n					\n		\n					\n		\n				\n						\n					\n			\n						\n				\n					OUR CAUSES				\n				\n				\n				\n					Vivamus volutpat eros pulvinar velit laoreet\, sit amet egestas erat dignissim. Sed quis rutrum tellus\, sit amet viverra felis. Cras sagittis sem sit amet urna feugiat rutrum. Nam nulla ipsum\, venenatis malesuada felis quis\, ultricies convallis neque. Pellentesque tristique fringilla tempus. Vivamus bibendum nibh in dolor pharetra\, a euismod nulla dignissim. Aenean viverra tincidunt nibh\, in imperdiet nunc. Suspendisse eu ante pretium\, consectetur leo at\, congue quam. Nullam hendrerit porta ante vitae tristique. Vestibulum ante ipsum primis in faucibus orci luctus et ultrices posuere cubilia Curae; Vestibulum ligula libero\, feugiat faucibus mattis eget\, pulvinar et ligula.
URL:https://beta.direlkheir.fr/event/ramadan-ftour-etranger/
LOCATION:Monde
CATEGORIES:Category Event
ATTACH;FMTTYPE=:
ORGANIZER;CN="Dir El Kheir":MAILTO:Email
END:VEVENT
END:VCALENDAR